BEGIN:VCALENDAR
VERSION:2.0
PRODID:-//Mental Health Council of Tasmania - ECPv5.14.0.4//NONSGML v1.0//EN
CALSCALE:GREGORIAN
METHOD:PUBLISH
X-WR-CALNAME:Mental Health Council of Tasmania
X-ORIGINAL-URL:https://mhct.org
X-WR-CALDESC:Events for Mental Health Council of Tasmania
BEGIN:VTIMEZONE
TZID:Australia/Hobart
BEGIN:STANDARD
TZOFFSETFROM:+1100
TZOFFSETTO:+1000
TZNAME:AEST
DTSTART:20200404T160000
END:STANDARD
BEGIN:DAYLIGHT
TZOFFSETFROM:+1000
TZOFFSETTO:+1100
TZNAME:AEDT
DTSTART:20201003T160000
END:DAYLIGHT
END:VTIMEZONE
BEGIN:VEVENT
DTSTART;TZID=Australia/Hobart:20201014T090000
DTEND;TZID=Australia/Hobart:20201014T163000
DTSTAMP:20260420T020740
CREATED:20200910T223411Z
LAST-MODIFIED:20200922T044724Z
UID:1904-1602666000-1602693000@mhct.org
SUMMARY:Support Coordinators and Mental Health - Coach\, Connect and Reflect!
DESCRIPTION:Support Coordinators play a significant role in the NDIS building capacity and supporting NDIS participants\, their families\, carers and our community as a whole. This will be a fun day that will focus on connection\, self-care and bring knowledge of the more complex areas of the practice of Support Coordination! \n  \n \n \n 
URL:https://mhct.org/event/support-coordinators-and-mental-health-coach-connect-and-reflect/
LOCATION:Launceston Conference Centre\, 50 Glen Dhu St\, South Launceston\, TASMANIA\, 7249
CATEGORIES:Discussions, Lectures, Forums,Workshop
END:VEVENT
END:VCALENDAR