BEGIN:VCALENDAR
VERSION:2.0
PRODID:-//Mental Health Council of Tasmania - ECPv5.14.0.4//NONSGML v1.0//EN
CALSCALE:GREGORIAN
METHOD:PUBLISH
X-WR-CALNAME:Mental Health Council of Tasmania
X-ORIGINAL-URL:https://mhct.org
X-WR-CALDESC:Events for Mental Health Council of Tasmania
BEGIN:VTIMEZONE
TZID:Australia/Hobart
BEGIN:STANDARD
TZOFFSETFROM:+1100
TZOFFSETTO:+1000
TZNAME:AEST
DTSTART:20200404T160000
END:STANDARD
BEGIN:DAYLIGHT
TZOFFSETFROM:+1000
TZOFFSETTO:+1100
TZNAME:AEDT
DTSTART:20201003T160000
END:DAYLIGHT
END:VTIMEZONE
BEGIN:VEVENT
DTSTART;TZID=Australia/Hobart:20201009T100000
DTEND;TZID=Australia/Hobart:20201009T140000
DTSTAMP:20260420T020724
CREATED:20200907T010546Z
LAST-MODIFIED:20200924T234245Z
UID:1877-1602237600-1602252000@mhct.org
SUMMARY:Artworks of Hope - Hobart
DESCRIPTION:During Mental Health Week\, Wellways will be hosting art workshops for community members. “Artworks of Hope” aims to support individuals to create mixed-media art pieces based around messages of hope.\nThe theme for Mental Health Week 2020 is “We all have a role to play” and in creating hopeful artwork\, we all contribute to a brighter and more mentally healthy community.\nThese artworks will form part of a larger-scale art project of positive messages\, to raise awareness of mental health issues in our community.\n“Artworks of Hope” is supported by Mental Health Council Tasmania’s Mental Health Week small grants program which will assist us to provide this opportunity.
URL:https://mhct.org/event/artworks-of-hope/
LOCATION:SoHo Arts Halls\, 14 Weld Stree\, South Hobart\, TASMANIA\, 7004\, Australia
CATEGORIES:Activities and Entertainment,Workshop
END:VEVENT
BEGIN:VEVENT
DTSTART;TZID=Australia/Hobart:20201009T100000
DTEND;TZID=Australia/Hobart:20201009T123000
DTSTAMP:20260420T020724
CREATED:20200908T052538Z
LAST-MODIFIED:20200908T052701Z
UID:1888-1602237600-1602246600@mhct.org
SUMMARY:Forest Therapy Walk
DESCRIPTION:Join us for a guided forest walk and immerse in your surroundings with all of your senses. Activities include stretching\, mindfulness and a tea ceremony. Shinrin Yoku/ Forest Therapy originated in Japan as a public health practice.\nLearn how nature connections can help us to alleviate stress\, improve mental health and benefit immune function.Suitable for: Ages 15 up but under 18 must be accompanied by an adult\, mobility to walk up stairs.\nBring: Warm clothing\, sun protection\, closed toe shoes\, drinking water.\nBookings: Free walk but places are limited so booking via Eventbrite is essential\nhttps://www.eventbrite.com.au/e/somerset-forest-therapy-walk-tickets-119840073887
URL:https://mhct.org/event/forest-therapy-walk/
LOCATION:French’s Road Reserve\, French's Road\, Somerset\, TASMANIA\, 7322
CATEGORIES:Family Friendly,Workshop
END:VEVENT
BEGIN:VEVENT
DTSTART;TZID=Australia/Hobart:20201009T103000
DTEND;TZID=Australia/Hobart:20201009T120000
DTSTAMP:20260420T020724
CREATED:20200821T022053Z
LAST-MODIFIED:20200913T232046Z
UID:1714-1602239400-1602244800@mhct.org
SUMMARY:KindaListening with Linda Allen
DESCRIPTION:A structured safe space circle for sharing and practising listening. Strengthens connection\, wellbeing and community.\nConfidential and with equal sharing. Your presence will be appreciated.
URL:https://mhct.org/event/kindalistening-with-linda-allen/
LOCATION:Westwinds Community Centre\, 3528 Channel Hwy\, Woodbridge\, 7162
CATEGORIES:Discussions, Lectures, Forums,Workshop
END:VEVENT
BEGIN:VEVENT
DTSTART;TZID=Australia/Hobart:20201009T120000
DTEND;TZID=Australia/Hobart:20201009T150000
DTSTAMP:20260420T020724
CREATED:20200821T023123Z
LAST-MODIFIED:20200821T023123Z
UID:1723-1602244800-1602255600@mhct.org
SUMMARY:Art from the Heart with Emma Belle Smallwood
DESCRIPTION:Emma Belle\, local artist\, will provide beautiful images inspired by the Channel for you to colour while you have a chat and a cuppa. Work on your own or on a group picture.\nAll materials provided.
URL:https://mhct.org/event/art-from-the-heart-with-emma-belle-smallwood-2/
LOCATION:Westwinds Community Centre\, 3528 Channel Hwy\, Woodbridge\, 7162
CATEGORIES:Workshop
END:VEVENT
END:VCALENDAR