BEGIN:VCALENDAR
VERSION:2.0
PRODID:-//Mental Health Council of Tasmania - ECPv5.14.0.4//NONSGML v1.0//EN
CALSCALE:GREGORIAN
METHOD:PUBLISH
X-WR-CALNAME:Mental Health Council of Tasmania
X-ORIGINAL-URL:https://mhct.org
X-WR-CALDESC:Events for Mental Health Council of Tasmania
BEGIN:VTIMEZONE
TZID:Australia/Hobart
BEGIN:STANDARD
TZOFFSETFROM:+1100
TZOFFSETTO:+1000
TZNAME:AEST
DTSTART:20250405T160000
END:STANDARD
BEGIN:DAYLIGHT
TZOFFSETFROM:+1000
TZOFFSETTO:+1100
TZNAME:AEDT
DTSTART:20251004T160000
END:DAYLIGHT
END:VTIMEZONE
BEGIN:VEVENT
DTSTART;TZID=Australia/Hobart:20250926T110000
DTEND;TZID=Australia/Hobart:20251019T160000
DTSTAMP:20260422T052831
CREATED:20250904T230742Z
LAST-MODIFIED:20250904T230742Z
UID:6469-1758884400-1760889600@mhct.org
SUMMARY:Minds Do Matter - Art Exhibition (Hobart)
DESCRIPTION:Minds Do Matter is a statewide art exhibition celebrating Mental Health Week and promoting positive community conversations about mental health by inviting creative responses to themes around mental health. \nIn 2025 the theme is EMPOWER: Appreciate the little things.
URL:https://mhct.org/event/minds-do-matter-art-exhibition-hobart/
LOCATION:Rosny Barn Schoolhouse Gallery\, 1/22 Rosny Hill Road\, Rosny
CATEGORIES:Activities and Entertainment,Expo,Raise Awareness
END:VEVENT
BEGIN:VEVENT
DTSTART;TZID=Australia/Hobart:20251003T110000
DTEND;TZID=Australia/Hobart:20251114T160000
DTSTAMP:20260422T052831
CREATED:20250904T230925Z
LAST-MODIFIED:20250904T230925Z
UID:6472-1759489200-1763136000@mhct.org
SUMMARY:Minds Do Matter - Art Exhibition (Devonport)
DESCRIPTION:Minds Do Matter is a statewide art exhibition celebrating Mental Health Week and promoting positive community conversations about mental health by inviting creative responses to themes around mental health. \nIn 2025 the theme is EMPOWER: Appreciate the little things
URL:https://mhct.org/event/minds-do-matter-art-exhibition-devonport/
LOCATION:RANT Arts\, 45 Stewart Street\, Devonport
CATEGORIES:Activities and Entertainment,Expo,Raise Awareness
END:VEVENT
BEGIN:VEVENT
DTSTART;TZID=Australia/Hobart:20251004T110000
DTEND;TZID=Australia/Hobart:20251207T160000
DTSTAMP:20260422T052831
CREATED:20250904T231105Z
LAST-MODIFIED:20250904T231105Z
UID:6475-1759575600-1765123200@mhct.org
SUMMARY:Minds Do Matter - Art Exhibition (Launceston)
DESCRIPTION:Minds Do Matter is a statewide art exhibition celebrating Mental Health Week and promoting positive community conversations about mental health by inviting creative responses to themes around mental health. \nIn 2025 the theme is EMPOWER: Appreciate the little things
URL:https://mhct.org/event/minds-do-matter-art-exhibition-launceston/
LOCATION:Queen Victoria Museum & Art Gallery\, 2 Invermay Rd\, Launceston\, TASMANIA\, 7248\, Australia
CATEGORIES:Activities and Entertainment,Expo,Raise Awareness
END:VEVENT
BEGIN:VEVENT
DTSTART;TZID=Australia/Hobart:20251016T100000
DTEND;TZID=Australia/Hobart:20251016T120000
DTSTAMP:20260422T052831
CREATED:20250917T032557Z
LAST-MODIFIED:20250917T032557Z
UID:6502-1760608800-1760616000@mhct.org
SUMMARY:Mindful Walk & Nature Journalling
DESCRIPTION:Celebrate Mental Health Week with us and take some time out at one of our favourite places in Hobart – the saltmarsh at Lauderdale (Racecourse Flats). \nThis event is for any of you who would like to take a break and spend time outside in nature. We have two great activities planned – a mindful walk and a nature journalling session. \nWe’ll start with a mindful walk led by Sandy King\, which will take us up the Tangara Trail on flat ground\, and last for about 30 minutes. When we get back to our starting point\, enjoy some complimentary morning tea with us\, before we get into a Nature Journalling session with artist Tanya Scharaschkin. \nNature journalling is “your response to nature”. It includes the practice of drawing or writing in response to your observations and feelings of nature. It helps you notice details in nature while slowing down and giving yourself time to relax and reflect. \nNo drawing or journalling experience or skills required. \nDr Tanya Scharaschkin will give you an overview of nature journalling and provide different options on how to get started and what to focus on. You will be guided through a range of activities to get you observing\, drawing and writing about nature\, including some simple techniques for reflecting and relaxing. \nAppropriate for children 12 years and older; must be accompanied by a participating adult. Nature journalling is a quiet\, meditative process. \n***Please note we require all participants to wear long-sleeve pants\, a long-sleeve shirt\, fully enclosed shoes and a hat.*** \nIf you have any questions or would like to book a group of volunteers\, please contact Janine on jyoung@cva.org.au \n \nRegister here.
URL:https://mhct.org/event/mindful-walk-nature-journalling/
LOCATION:Tangara Trail\, Bayview Road\, Lauderdale\, Tasmania\, 7021\, Australia
CATEGORIES:Activities and Entertainment,Family Friendly,Raise Awareness
END:VEVENT
END:VCALENDAR