BEGIN:VCALENDAR
VERSION:2.0
PRODID:-//Mental Health Council of Tasmania - ECPv5.14.0.4//NONSGML v1.0//EN
CALSCALE:GREGORIAN
METHOD:PUBLISH
X-WR-CALNAME:Mental Health Council of Tasmania
X-ORIGINAL-URL:https://mhct.org
X-WR-CALDESC:Events for Mental Health Council of Tasmania
BEGIN:VTIMEZONE
TZID:Australia/Hobart
BEGIN:STANDARD
TZOFFSETFROM:+1100
TZOFFSETTO:+1000
TZNAME:AEST
DTSTART:20250405T160000
END:STANDARD
BEGIN:DAYLIGHT
TZOFFSETFROM:+1000
TZOFFSETTO:+1100
TZNAME:AEDT
DTSTART:20251004T160000
END:DAYLIGHT
END:VTIMEZONE
BEGIN:VEVENT
DTSTART;TZID=Australia/Hobart:20250926T110000
DTEND;TZID=Australia/Hobart:20251019T160000
DTSTAMP:20260422T071500
CREATED:20250904T230742Z
LAST-MODIFIED:20250904T230742Z
UID:6469-1758884400-1760889600@mhct.org
SUMMARY:Minds Do Matter - Art Exhibition (Hobart)
DESCRIPTION:Minds Do Matter is a statewide art exhibition celebrating Mental Health Week and promoting positive community conversations about mental health by inviting creative responses to themes around mental health. \nIn 2025 the theme is EMPOWER: Appreciate the little things.
URL:https://mhct.org/event/minds-do-matter-art-exhibition-hobart/
LOCATION:Rosny Barn Schoolhouse Gallery\, 1/22 Rosny Hill Road\, Rosny
CATEGORIES:Activities and Entertainment,Expo,Raise Awareness
END:VEVENT
END:VCALENDAR