BEGIN:VCALENDAR
VERSION:2.0
PRODID:-//Mental Health Council of Tasmania - ECPv5.14.0.4//NONSGML v1.0//EN
CALSCALE:GREGORIAN
METHOD:PUBLISH
X-WR-CALNAME:Mental Health Council of Tasmania
X-ORIGINAL-URL:https://mhct.org
X-WR-CALDESC:Events for Mental Health Council of Tasmania
BEGIN:VTIMEZONE
TZID:Australia/Hobart
BEGIN:STANDARD
TZOFFSETFROM:+1100
TZOFFSETTO:+1000
TZNAME:AEST
DTSTART:20210403T160000
END:STANDARD
BEGIN:DAYLIGHT
TZOFFSETFROM:+1000
TZOFFSETTO:+1100
TZNAME:AEDT
DTSTART:20211002T160000
END:DAYLIGHT
END:VTIMEZONE
BEGIN:VEVENT
DTSTART;TZID=Australia/Hobart:20210904T090000
DTEND;TZID=Australia/Hobart:20211008T170000
DTSTAMP:20260420T111457
CREATED:20210906T044348Z
LAST-MODIFIED:20210906T044348Z
UID:2730-1630746000-1633712400@mhct.org
SUMMARY:Wellbeing Walk
DESCRIPTION:Come and join our staff as we explore Rosny and it’s surrounds. We will discover our community and how you connect to it. \nWe will have daily walks at 10:30am – 11:30am\, Monday – Friday. \nBring a water bottle\, hat and a smile. \nMeet at the Rosny Library entrance. \nAll are welcome.
URL:https://mhct.org/event/wellbeing-walk/
LOCATION:Rosny Library\, 46 Bligh Street\, Rosny Park\, TASMANIA\, 7018\, Australia
CATEGORIES:Activities and Entertainment
END:VEVENT
END:VCALENDAR