BEGIN:VCALENDAR
VERSION:2.0
PRODID:-//Mental Health Council of Tasmania - ECPv5.14.0.4//NONSGML v1.0//EN
CALSCALE:GREGORIAN
METHOD:PUBLISH
X-WR-CALNAME:Mental Health Council of Tasmania
X-ORIGINAL-URL:https://mhct.org
X-WR-CALDESC:Events for Mental Health Council of Tasmania
BEGIN:VTIMEZONE
TZID:Australia/Hobart
BEGIN:STANDARD
TZOFFSETFROM:+1100
TZOFFSETTO:+1000
TZNAME:AEST
DTSTART:20200404T160000
END:STANDARD
BEGIN:DAYLIGHT
TZOFFSETFROM:+1000
TZOFFSETTO:+1100
TZNAME:AEDT
DTSTART:20201003T160000
END:DAYLIGHT
END:VTIMEZONE
BEGIN:VEVENT
DTSTART;TZID=Australia/Hobart:20201018T110000
DTEND;TZID=Australia/Hobart:20201018T130000
DTSTAMP:20260420T075329
CREATED:20200821T023848Z
LAST-MODIFIED:20200901T041934Z
UID:1731-1603018800-1603026000@mhct.org
SUMMARY:Wags 'n' Snags at Middleton
DESCRIPTION:Join us for a walk along the Middleton Esplanade. Bring your dog if you have one or just bring yourself.\nAfter the walk\, join us for a FREE sausage sizzle.
URL:https://mhct.org/event/wags-n-snags-at-middleton/
LOCATION:Middleton Hall\, 25 McDowall St\, Middleton\, 7163
CATEGORIES:Family Friendly,Raise Awareness
END:VEVENT
END:VCALENDAR