BEGIN:VCALENDAR
VERSION:2.0
PRODID:-//Mental Health Council of Tasmania - ECPv5.14.0.4//NONSGML v1.0//EN
CALSCALE:GREGORIAN
METHOD:PUBLISH
X-WR-CALNAME:Mental Health Council of Tasmania
X-ORIGINAL-URL:https://mhct.org
X-WR-CALDESC:Events for Mental Health Council of Tasmania
BEGIN:VTIMEZONE
TZID:Australia/Hobart
BEGIN:STANDARD
TZOFFSETFROM:+1100
TZOFFSETTO:+1000
TZNAME:AEST
DTSTART:20200404T160000
END:STANDARD
BEGIN:DAYLIGHT
TZOFFSETFROM:+1000
TZOFFSETTO:+1100
TZNAME:AEDT
DTSTART:20201003T160000
END:DAYLIGHT
END:VTIMEZONE
BEGIN:VEVENT
DTSTART;TZID=Australia/Hobart:20201008T120000
DTEND;TZID=Australia/Hobart:20201008T130000
DTSTAMP:20260420T022030
CREATED:20201001T002413Z
LAST-MODIFIED:20201001T002439Z
UID:2040-1602158400-1602162000@mhct.org
SUMMARY:Trauma Sensitive Yoga Info Session
DESCRIPTION:Mental Health Week Open Day & Free Info Session for mental health workers and peers at Ujjayi Yoga Tasmania \nw/ Sarah Van Est – Yoga therapist\, Somatic Experiencing therapist in training\, and trauma recovery specialist. \nIf you want to learn more about body based therapies for trauma recovery; how yoga therapy and Somatic Experiencing can help the people that you work with; experience the space that we work in here at Ujjayi; discuss referral pathways; or how we can help you and your work place manage and mitigate vicarious trauma\, please come along to this free event. \nMore information about our trauma recovery services can be found on our website. \nTo RSVP\, please email Sarah at ujjayiyogatas@gmail.com \nWe look forward to sharing some information about the many and varied benefits of a body based practise with you all. \n 
URL:https://mhct.org/event/trauma-sensitive-yoga-info-session/
LOCATION:Ujjayi Yoga Tasmania\, 1/67 George St\, Launceston\, TASMANIA
CATEGORIES:Workshop
END:VEVENT
END:VCALENDAR