BEGIN:VCALENDAR
VERSION:2.0
PRODID:-//Mental Health Council of Tasmania - ECPv5.14.0.4//NONSGML v1.0//EN
CALSCALE:GREGORIAN
METHOD:PUBLISH
X-WR-CALNAME:Mental Health Council of Tasmania
X-ORIGINAL-URL:https://mhct.org
X-WR-CALDESC:Events for Mental Health Council of Tasmania
BEGIN:VTIMEZONE
TZID:Australia/Hobart
BEGIN:STANDARD
TZOFFSETFROM:+1100
TZOFFSETTO:+1000
TZNAME:AEST
DTSTART:20200404T160000
END:STANDARD
BEGIN:DAYLIGHT
TZOFFSETFROM:+1000
TZOFFSETTO:+1100
TZNAME:AEDT
DTSTART:20201003T160000
END:DAYLIGHT
END:VTIMEZONE
BEGIN:VEVENT
DTSTART;TZID=Australia/Hobart:20201008T130000
DTEND;TZID=Australia/Hobart:20201008T150000
DTSTAMP:20260420T021427
CREATED:20200821T023557Z
LAST-MODIFIED:20200821T023557Z
UID:1729-1602162000-1602169200@mhct.org
SUMMARY:Stretch your Creative Muscle - It's Easy with Brett McDermott
DESCRIPTION:Brett talks about the pros and cons of art in therapy and introduces some fun and easy drawing exercises to show you how easy and beneficial it can be.
URL:https://mhct.org/event/stretch-your-creative-muscle-its-easy-with-brett-mcdermott/
LOCATION:Westwinds Community Centre\, 3528 Channel Hwy\, Woodbridge\, 7162
CATEGORIES:Discussions, Lectures, Forums,Workshop
END:VEVENT
END:VCALENDAR