BEGIN:VCALENDAR
VERSION:2.0
PRODID:-//Mental Health Council of Tasmania - ECPv5.14.0.4//NONSGML v1.0//EN
CALSCALE:GREGORIAN
METHOD:PUBLISH
X-WR-CALNAME:Mental Health Council of Tasmania
X-ORIGINAL-URL:https://mhct.org
X-WR-CALDESC:Events for Mental Health Council of Tasmania
BEGIN:VTIMEZONE
TZID:Australia/Hobart
BEGIN:STANDARD
TZOFFSETFROM:+1100
TZOFFSETTO:+1000
TZNAME:AEST
DTSTART:20210403T160000
END:STANDARD
BEGIN:DAYLIGHT
TZOFFSETFROM:+1000
TZOFFSETTO:+1100
TZNAME:AEDT
DTSTART:20211002T160000
END:DAYLIGHT
END:VTIMEZONE
BEGIN:VEVENT
DTSTART;TZID=Australia/Hobart:20210908T090000
DTEND;TZID=Australia/Hobart:20211008T170000
DTSTAMP:20260420T125412
CREATED:20210906T043604Z
LAST-MODIFIED:20210914T003528Z
UID:2727-1631091600-1633712400@mhct.org
SUMMARY:Photo Competition - Belonging: through the lens
DESCRIPTION:Belonging: through the lens photo competition. Bicheno\, Swansea\, Orford\, Sorell and Tasman Libraries. \nShow us how you connect with or belong to your local community. \nSubmit a photograph to the open or youth(18 and under) category. \nSend photos and details to: rosny.library@education.tas.gov.au \nContact us for more information: \nBicheno Library 03 6387 5609\nOrford Library 03 6123 4039\nSorell Library 03 6165 6452\nSwansea Library 03 6257 8607\nTasman Library 03 6250 1017
URL:https://mhct.org/event/photo-competition-belonging-through-the-lens/
LOCATION:Multiple Locations
END:VEVENT
END:VCALENDAR