BEGIN:VCALENDAR
VERSION:2.0
PRODID:-//Mental Health Council of Tasmania - ECPv5.14.0.4//NONSGML v1.0//EN
CALSCALE:GREGORIAN
METHOD:PUBLISH
X-WR-CALNAME:Mental Health Council of Tasmania
X-ORIGINAL-URL:https://mhct.org
X-WR-CALDESC:Events for Mental Health Council of Tasmania
BEGIN:VTIMEZONE
TZID:Australia/Hobart
BEGIN:STANDARD
TZOFFSETFROM:+1100
TZOFFSETTO:+1000
TZNAME:AEST
DTSTART:20220402T160000
END:STANDARD
BEGIN:DAYLIGHT
TZOFFSETFROM:+1000
TZOFFSETTO:+1100
TZNAME:AEDT
DTSTART:20221001T160000
END:DAYLIGHT
END:VTIMEZONE
BEGIN:VEVENT
DTSTART;TZID=Australia/Hobart:20221012T140000
DTEND;TZID=Australia/Hobart:20221012T170000
DTSTAMP:20260421T222859
CREATED:20220928T011115Z
LAST-MODIFIED:20220928T011115Z
UID:3538-1665583200-1665594000@mhct.org
SUMMARY:Movies with MATES - MATES 25 Year Anniversary celebration (North)
DESCRIPTION:Help us celebrate the 25 year celebration of MATES in Mental Health week. \nNibbles and drinks on arrival\, a few personal MATES stories shared \nAnd a showing of Cosi\, a beautiful\, quirky\, Australian film
URL:https://mhct.org/event/movies-with-mates-mates-25-year-anniversary-celebration-north/
LOCATION:Faculty of Arts UTAS\, Newnham Drive\, Newnham
CATEGORIES:Activities and Entertainment,Raise Awareness
ORGANIZER;CN="Australian%20Red%20Cross":MAILTO:xlanemullins@redcross.org.au
END:VEVENT
END:VCALENDAR