BEGIN:VCALENDAR
VERSION:2.0
PRODID:-//Mental Health Council of Tasmania - ECPv5.14.0.4//NONSGML v1.0//EN
CALSCALE:GREGORIAN
METHOD:PUBLISH
X-WR-CALNAME:Mental Health Council of Tasmania
X-ORIGINAL-URL:https://mhct.org
X-WR-CALDESC:Events for Mental Health Council of Tasmania
BEGIN:VTIMEZONE
TZID:Australia/Hobart
BEGIN:STANDARD
TZOFFSETFROM:+1100
TZOFFSETTO:+1000
TZNAME:AEST
DTSTART:20220402T160000
END:STANDARD
BEGIN:DAYLIGHT
TZOFFSETFROM:+1000
TZOFFSETTO:+1100
TZNAME:AEDT
DTSTART:20221001T160000
END:DAYLIGHT
END:VTIMEZONE
BEGIN:VEVENT
DTSTART;TZID=Australia/Hobart:20221012T100000
DTEND;TZID=Australia/Hobart:20221012T150000
DTSTAMP:20260422T045939
CREATED:20220930T051102Z
LAST-MODIFIED:20220930T051102Z
UID:3559-1665568800-1665586800@mhct.org
SUMMARY:Mental Health Expo
DESCRIPTION:Our event will feature information stalls\, as well a Line Dancing demonstration at 11:45am from the Boots and All Line Dancing group ( public invited to Join in)
URL:https://mhct.org/event/mental-health-expo/
LOCATION:Glenorchy City Council\, 374 Main Road\, Glenorchy
CATEGORIES:Activities and Entertainment,Expo,Family Friendly,Raise Awareness
END:VEVENT
END:VCALENDAR