BEGIN:VCALENDAR
VERSION:2.0
PRODID:-//Mental Health Council of Tasmania - ECPv5.14.0.4//NONSGML v1.0//EN
CALSCALE:GREGORIAN
METHOD:PUBLISH
X-WR-CALNAME:Mental Health Council of Tasmania
X-ORIGINAL-URL:https://mhct.org
X-WR-CALDESC:Events for Mental Health Council of Tasmania
BEGIN:VTIMEZONE
TZID:Australia/Hobart
BEGIN:STANDARD
TZOFFSETFROM:+1100
TZOFFSETTO:+1000
TZNAME:AEST
DTSTART:20220402T160000
END:STANDARD
BEGIN:DAYLIGHT
TZOFFSETFROM:+1000
TZOFFSETTO:+1100
TZNAME:AEDT
DTSTART:20221001T160000
END:DAYLIGHT
END:VTIMEZONE
BEGIN:VEVENT
DTSTART;TZID=Australia/Hobart:20221012T150000
DTEND;TZID=Australia/Hobart:20221012T160000
DTSTAMP:20260421T185925
CREATED:20220901T040229Z
LAST-MODIFIED:20220901T040229Z
UID:3345-1665586800-1665590400@mhct.org
SUMMARY:Launch of A Guide to North West Tasmania For Young People\, By Young People
DESCRIPTION:Come and join us to celebrate the release of our new free booklet: A Guide to North West Tasmania By Young People\, For Young People. See the end result of the hard work that our youth reference group put in to create this fabulous resource for the young people of our community and enjoy some afternoon tea on us to commemorate.
URL:https://mhct.org/event/launch-of-a-guide-to-north-west-tasmania-for-young-people-by-young-people/
LOCATION:Level 1\, 35 Oldaker Street\, Level 1\, 35 Oldaker Street\, Devonport
CATEGORIES:Discussions, Lectures, Forums,Raise Awareness
END:VEVENT
END:VCALENDAR