BEGIN:VCALENDAR
VERSION:2.0
PRODID:-//Mental Health Council of Tasmania - ECPv5.14.0.4//NONSGML v1.0//EN
CALSCALE:GREGORIAN
METHOD:PUBLISH
X-WR-CALNAME:Mental Health Council of Tasmania
X-ORIGINAL-URL:https://mhct.org
X-WR-CALDESC:Events for Mental Health Council of Tasmania
BEGIN:VTIMEZONE
TZID:Australia/Hobart
BEGIN:STANDARD
TZOFFSETFROM:+1100
TZOFFSETTO:+1000
TZNAME:AEST
DTSTART:20210403T160000
END:STANDARD
BEGIN:DAYLIGHT
TZOFFSETFROM:+1000
TZOFFSETTO:+1100
TZNAME:AEDT
DTSTART:20211002T160000
END:DAYLIGHT
END:VTIMEZONE
BEGIN:VEVENT
DTSTART;TZID=Australia/Hobart:20210911T173000
DTEND;TZID=Australia/Hobart:20210911T223000
DTSTAMP:20260420T144039
CREATED:20210819T033508Z
LAST-MODIFIED:20210819T033508Z
UID:2633-1631381400-1631399400@mhct.org
SUMMARY:Koonya Hall Bush Dance
DESCRIPTION:The goal of this family friendly event is to bring outlying and isolated families to a fun and interactive event and raise the spirit of the kids who have been missing ‘out of school’ activities and interactions and parents who have been missing social events.\nWe will encourage interaction with informal fireside conversation\, singing and marshmallow roasting and singles or partner bush style dancing (dependent on COVID restrictions at the time). \nSupported by Dunalley and Tasman Neighbourhood House will be promoting local health and wellbeing opportunities including Mental Health Week\, regular Neighbourhood House services\, local fitness and arts/crafts groups and school holiday activities.
URL:https://mhct.org/event/koonya-hall-bush-dance/
LOCATION:Koonya Hall\, Nubeena Road\, Koonya\, 7187
CATEGORIES:Activities and Entertainment
END:VEVENT
END:VCALENDAR