BEGIN:VCALENDAR
VERSION:2.0
PRODID:-//Mental Health Council of Tasmania - ECPv5.14.0.4//NONSGML v1.0//EN
CALSCALE:GREGORIAN
METHOD:PUBLISH
X-WR-CALNAME:Mental Health Council of Tasmania
X-ORIGINAL-URL:https://mhct.org
X-WR-CALDESC:Events for Mental Health Council of Tasmania
BEGIN:VTIMEZONE
TZID:Australia/Hobart
BEGIN:STANDARD
TZOFFSETFROM:+1100
TZOFFSETTO:+1000
TZNAME:AEST
DTSTART:20200404T160000
END:STANDARD
BEGIN:DAYLIGHT
TZOFFSETFROM:+1000
TZOFFSETTO:+1100
TZNAME:AEDT
DTSTART:20201003T160000
END:DAYLIGHT
END:VTIMEZONE
BEGIN:VEVENT
DTSTART;TZID=Australia/Hobart:20201015T180000
DTEND;TZID=Australia/Hobart:20201015T204500
DTSTAMP:20260420T075519
CREATED:20201007T215401Z
LAST-MODIFIED:20201007T215401Z
UID:2081-1602784800-1602794700@mhct.org
SUMMARY:Film Night at Star Theatre
DESCRIPTION:Community Response to Eliminating Suicide (CORES) is a community based program which educates members of the local community on how to intervene when they encounter someone who they believe may be suicidal. CORES have partnered with Star Theatre during October to acknowledge Mental Health week and to bring you a thought provoking documentary on suicide awareness. The Girl On The Bridge (136 minutes) is produced in New Zealand and is a confronting film featuring Jazz Thornton\, that provides a glimpse into a world that few of us comprehend and a response to our collective anguish about the suicide crisis in our communities and our desire to “do something”! \nArrive early to purchase a drink and snack from the bar and take some time to network prior to the film.\nThere will be a short introduction from Sharon Jones\, Executive Officer at CORES\, Tasmania\, and the film screening will commence at 6.30pm. \nCheck out Star Theatre website for further information about the film and to book your ticket. \nPlease note: This film is rated M and includes suicide themes and coarse language.
URL:https://mhct.org/event/film-night-at-star-theatre/
LOCATION:Star Theatre\, 217b Invermay Rd\, Launceston\, 7250
END:VEVENT
END:VCALENDAR