BEGIN:VCALENDAR
VERSION:2.0
PRODID:-//Mental Health Council of Tasmania - ECPv5.14.0.4//NONSGML v1.0//EN
CALSCALE:GREGORIAN
METHOD:PUBLISH
X-WR-CALNAME:Mental Health Council of Tasmania
X-ORIGINAL-URL:https://mhct.org
X-WR-CALDESC:Events for Mental Health Council of Tasmania
BEGIN:VTIMEZONE
TZID:Australia/Hobart
BEGIN:STANDARD
TZOFFSETFROM:+1100
TZOFFSETTO:+1000
TZNAME:AEST
DTSTART:20210403T160000
END:STANDARD
BEGIN:DAYLIGHT
TZOFFSETFROM:+1000
TZOFFSETTO:+1100
TZNAME:AEDT
DTSTART:20211002T160000
END:DAYLIGHT
END:VTIMEZONE
BEGIN:VEVENT
DTSTART;TZID=Australia/Hobart:20211010T160000
DTEND;TZID=Australia/Hobart:20211010T190000
DTSTAMP:20260421T163541
CREATED:20210920T004036Z
LAST-MODIFIED:20210920T004036Z
UID:2833-1633881600-1633892400@mhct.org
SUMMARY:Eaglehawk Neck Community Bush Dance
DESCRIPTION:A Bush Dance to lift the spirits and keep us moving! \nInformation on local activities and support is also available. \nWear orange to celebrate Mental Health Week. \nOpen to people living on the Tasman Peninsula. \nBook now
URL:https://mhct.org/event/eaglehawk-neck-community-bush-dance/
LOCATION:Eaglehawk Neck Community Hall\, Arthur Highway\, Eaglehawk Neck
CATEGORIES:Activities and Entertainment,Family Friendly
END:VEVENT
END:VCALENDAR