BEGIN:VCALENDAR
VERSION:2.0
PRODID:-//Mental Health Council of Tasmania - ECPv5.14.0.4//NONSGML v1.0//EN
CALSCALE:GREGORIAN
METHOD:PUBLISH
X-WR-CALNAME:Mental Health Council of Tasmania
X-ORIGINAL-URL:https://mhct.org
X-WR-CALDESC:Events for Mental Health Council of Tasmania
BEGIN:VTIMEZONE
TZID:Australia/Hobart
BEGIN:STANDARD
TZOFFSETFROM:+1100
TZOFFSETTO:+1000
TZNAME:AEST
DTSTART:20200404T160000
END:STANDARD
BEGIN:DAYLIGHT
TZOFFSETFROM:+1000
TZOFFSETTO:+1100
TZNAME:AEDT
DTSTART:20201003T160000
END:DAYLIGHT
END:VTIMEZONE
BEGIN:VEVENT
DTSTART;TZID=Australia/Hobart:20201009T103000
DTEND;TZID=Australia/Hobart:20201009T113000
DTSTAMP:20260420T055949
CREATED:20200930T235255Z
LAST-MODIFIED:20200930T235255Z
UID:2035-1602239400-1602243000@mhct.org
SUMMARY:Discrimination: Exploring Women's Mental Health Webinar & Q&A
DESCRIPTION:Equal Opportunity Tasmania wishes to acknowledge Mental Health Week 2020 by hosting a webinar panel discussion and Q&A on Discrimination: Exploring Women’s Mental Health. \nWe will look at the impacts discrimination has on women’s mental health from the following expert panel members:\n• Coorinna Burgess\, Alcohol and Drug Worker\, Aboriginal Health Service Hobart\n• Fiona Strahan\, Project Coordinator\, Disability Voices Tasmania\n• Lynn Jarvis\, CEO\, Working It Out Inc\n• Julie Martin\, Operations Manager\, Mental Health Council of Tasmania\n• Kelli Charles\, Senior Counsellor\, Phoenix Centre Launceston \nAfter the panel discussion there will be an opportunity for the audience to ask questions using the Zoom chat function. Louise Adams\, Training\, Education and Development Officer at Equal Opportunity Tasmania will facilitate the panel discussion and audience questions. We look forward to you joining us and being part of this important conversation. \nFor further information about the webinar e-mail louise.adams@equalopportunity.tas.gov.au
URL:https://mhct.org/event/discrimination-exploring-womens-mental-health-webinar-qa/
LOCATION:Online
CATEGORIES:Discussions, Lectures, Forums,Online
END:VEVENT
END:VCALENDAR