BEGIN:VCALENDAR
VERSION:2.0
PRODID:-//Mental Health Council of Tasmania - ECPv5.14.0.4//NONSGML v1.0//EN
CALSCALE:GREGORIAN
METHOD:PUBLISH
X-WR-CALNAME:Mental Health Council of Tasmania
X-ORIGINAL-URL:https://mhct.org
X-WR-CALDESC:Events for Mental Health Council of Tasmania
BEGIN:VTIMEZONE
TZID:Australia/Hobart
BEGIN:STANDARD
TZOFFSETFROM:+1100
TZOFFSETTO:+1000
TZNAME:AEST
DTSTART:20220402T160000
END:STANDARD
BEGIN:DAYLIGHT
TZOFFSETFROM:+1000
TZOFFSETTO:+1100
TZNAME:AEDT
DTSTART:20221001T160000
END:DAYLIGHT
END:VTIMEZONE
BEGIN:VEVENT
DTSTART;TZID=Australia/Hobart:20221012T110000
DTEND;TZID=Australia/Hobart:20221012T140000
DTSTAMP:20260421T221524
CREATED:20220912T000643Z
LAST-MODIFIED:20220912T000643Z
UID:3409-1665572400-1665583200@mhct.org
SUMMARY:Connect in the Garden
DESCRIPTION:FREE PIZZA\, ACTIVITIES AND FUN \nInclusive gathering for young people and families – come visit the garden – meet other community members and some of your local Mental Health & Support Service Providers. \nSuperSillyUs Circus and Wayfarers of Midgard (Viking Group) for games and entertainment!\n12th October 11am – 2pm\nWestbury Community Garden
URL:https://mhct.org/event/connect-in-the-garden/
LOCATION:Westbury Community Garden\, Corner Dexter & Jones Street\, Westbury
CATEGORIES:Activities and Entertainment,Family Friendly
END:VEVENT
END:VCALENDAR