BEGIN:VCALENDAR
VERSION:2.0
PRODID:-//Mental Health Council of Tasmania - ECPv5.14.0.4//NONSGML v1.0//EN
CALSCALE:GREGORIAN
METHOD:PUBLISH
X-WR-CALNAME:Mental Health Council of Tasmania
X-ORIGINAL-URL:https://mhct.org
X-WR-CALDESC:Events for Mental Health Council of Tasmania
BEGIN:VTIMEZONE
TZID:Australia/Hobart
BEGIN:STANDARD
TZOFFSETFROM:+1100
TZOFFSETTO:+1000
TZNAME:AEST
DTSTART:20200404T160000
END:STANDARD
BEGIN:DAYLIGHT
TZOFFSETFROM:+1000
TZOFFSETTO:+1100
TZNAME:AEDT
DTSTART:20201003T160000
END:DAYLIGHT
END:VTIMEZONE
BEGIN:VEVENT
DTSTART;TZID=Australia/Hobart:20201008T110000
DTEND;TZID=Australia/Hobart:20201008T120000
DTSTAMP:20260420T055631
CREATED:20200828T040850Z
LAST-MODIFIED:20200903T054156Z
UID:1760-1602154800-1602158400@mhct.org
SUMMARY:A Week of Wonderful Ideas - Thinking Thursday
DESCRIPTION:A Week of Wonderful Ideas is a 30min online event from Monday to Friday to support mental wellbeing. Each day there is a different activity of wonderful ideas shared by participants and facilitated by TasPPL: Music Monday (share your favourite music) \, Show and Tell Tuesday ( share your creative outlet)\, Walking Wednesday (join us on a virtual walk in your local area)\, Thinking Thursday (brainstorming ways to be grateful and show kindness)\, and Fun Friday (sharing things that are fun\, we are passionate about and that bring happiness and joy).\nWe all have a role to play in our own mental wellbeing and those around us\, by sharing the things that work for us we can support others. \nEmail people@tasppl.org.au if you are interested and we will send you the daily link
URL:https://mhct.org/event/a-week-of-wonderful-ideas-thinking-thursday/
LOCATION:Online
CATEGORIES:Discussions, Lectures, Forums,Online
END:VEVENT
END:VCALENDAR